BEGIN:VCALENDAR
VERSION:2.0
PRODID:-//Tukios.com/
BEGIN:VEVENT
UID:eb5433b7-e89b-4173-bde0-98b72192ea5b@www.thechapelofpeace.com
DTSTAMP:20260422T214007Z
DTSTART:20260502T140000Z
DTEND:20260502T160000Z
SUMMARY:Funeral
DESCRIPTION:
URL:https://www.thechapelofpeace.com/obituaries/annie-lester
LOCATION:Providence Baptist Church 112 W 6th  Mansfield OH 44902
GEO:40.7654824;-82.5192355
END:VEVENT
END:VCALENDAR