BEGIN:VCALENDAR
VERSION:2.0
PRODID:-//Tukios.com/
BEGIN:VEVENT
UID:77fc36c5-eccd-4443-9b4f-ee3ac5087dc9@www.thechapelofpeace.com
DTSTAMP:20260422T213646Z
DTSTART:20260502T130000Z
DTEND:20260502T140000Z
SUMMARY:Visitation
DESCRIPTION:
URL:https://www.thechapelofpeace.com/obituaries/annie-lester
LOCATION:Providence Baptist Church 112 W 6th  Mansfield OH 44902
GEO:40.7654824;-82.5192355
END:VEVENT
END:VCALENDAR