BEGIN:VCALENDAR
VERSION:2.0
PRODID:-//Tukios.com/
BEGIN:VEVENT
UID:e3ed0a3c-e11e-49c3-8389-746725063073@www.thechapelofpeace.com
DTSTAMP:20260422T214200Z
DTSTART:20260502
SUMMARY:Burial
DESCRIPTION:
URL:https://www.thechapelofpeace.com/obituaries/annie-lester
LOCATION: 753 McPherson St.  Mansfield OH 44903
GEO:40.7704629;-82.5414892
END:VEVENT
END:VCALENDAR