BEGIN:VCALENDAR
VERSION:2.0
PRODID:-//Tukios.com/
BEGIN:VEVENT
UID:2c5f48aa-0337-45d1-ae3d-9986774936e7@www.thechapelofpeace.com
DTSTAMP:20260422T055004Z
DTSTART:20260428T150000Z
DTEND:20260428T170000Z
SUMMARY:Funeral
DESCRIPTION:
URL:https://www.thechapelofpeace.com/obituaries/constance-ghee
LOCATION: 3330 Scottwood Rd  Columbus OH 43227
GEO:39.9406142;-82.9060692
END:VEVENT
END:VCALENDAR