BEGIN:VCALENDAR
VERSION:2.0
PRODID:-//Tukios.com/
BEGIN:VEVENT
UID:018dee46-8ff4-44da-83cb-574cab22a069@www.thechapelofpeace.com
DTSTAMP:20260422T054832Z
DTSTART:20260428T140000Z
DTEND:20260428T150000Z
SUMMARY:Visitation
DESCRIPTION:
URL:https://www.thechapelofpeace.com/obituaries/constance-ghee
LOCATION: 3330 Scottwood Rd  Columbus OH 43227
GEO:39.9406142;-82.9060692
END:VEVENT
END:VCALENDAR