BEGIN:VCALENDAR
VERSION:2.0
PRODID:-//Tukios.com/
BEGIN:VEVENT
UID:c28d2bff-2e85-4123-bbed-37dfd39c7bdc@www.thechapelofpeace.com
DTSTAMP:20260422T213446Z
DTSTART:20260427T160000Z
DTEND:20260427T170000Z
SUMMARY:Funeral
DESCRIPTION:
URL:https://www.thechapelofpeace.com/obituaries/elbert-johnson
LOCATION:Columbus Bible Way  2660 Rhoads Ave, Columbus, OH  Columbus OH 
	43207
GEO:39.9052692;-82.9532812
END:VEVENT
END:VCALENDAR