BEGIN:VCALENDAR
VERSION:2.0
PRODID:-//Tukios.com/
BEGIN:VEVENT
UID:c20a0745-995c-4b9f-8b86-2ef3232eff69@www.thechapelofpeace.com
DTSTAMP:20260422T213806Z
DTSTART:20260427T150000Z
DTEND:20260427T160000Z
SUMMARY:Visitation
DESCRIPTION:
URL:https://www.thechapelofpeace.com/obituaries/elbert-johnson
LOCATION:Columbus Bible Way  2660 Rhoads Ave, Columbus, OH  Columbus OH 
	43207
GEO:39.9052692;-82.9532812
END:VEVENT
END:VCALENDAR