BEGIN:VCALENDAR
VERSION:2.0
PRODID:-//Tukios.com/
BEGIN:VEVENT
UID:ac50962e-72ac-47b8-8d6b-dd23be0ac7a3@www.thechapelofpeace.com
DTSTAMP:20260422T214302Z
DTSTART:20260427T180000Z
DTEND:20260427T190000Z
SUMMARY:Interment
DESCRIPTION:
URL:https://www.thechapelofpeace.com/obituaries/elbert-johnson
LOCATION:Green Lawn Cemetery 1000 Greenlawn Ave  Columbus OH 43223
GEO:39.9394874;-83.0254559
END:VEVENT
END:VCALENDAR