BEGIN:VCALENDAR
VERSION:2.0
PRODID:-//Tukios.com/
BEGIN:VEVENT
UID:5265fc03-d169-46eb-b677-87bf52713648@www.thechapelofpeace.com
DTSTAMP:20260423T015551Z
DTSTART:20260425T180000Z
DTEND:20260425T200000Z
SUMMARY:Memorial Service
DESCRIPTION:
URL:https://www.thechapelofpeace.com/obituaries/george-carpenter
LOCATION:Chapel of Peace - North 2500 Cleveland Ave.  Columbus OH 43211
GEO:40.0182574;-82.9647318
END:VEVENT
END:VCALENDAR