BEGIN:VCALENDAR
VERSION:2.0
PRODID:-//Tukios.com/
BEGIN:VEVENT
UID:444c5374-025e-4880-bf71-a8a2b7b69f83@www.thechapelofpeace.com
DTSTAMP:20260423T015826Z
DTSTART:20260425T170000Z
DTEND:20260425T180000Z
SUMMARY:Visitation
DESCRIPTION:
URL:https://www.thechapelofpeace.com/obituaries/george-carpenter
LOCATION:Chapel of Peace - North 2500 Cleveland Ave.  Columbus OH 43211
GEO:40.0182574;-82.9647318
END:VEVENT
END:VCALENDAR