BEGIN:VCALENDAR
VERSION:2.0
PRODID:-//Tukios.com/
BEGIN:VEVENT
UID:f665cbf2-a070-48ea-a0fc-08c3b78f9850@www.thechapelofpeace.com
DTSTAMP:20260424T003004Z
DTSTART:20260427T183000Z
DTEND:20260427T190000Z
SUMMARY:Graveside Service
DESCRIPTION:
URL:https://www.thechapelofpeace.com/obituaries/gwendolyn-wilson
LOCATION:Ferncliff Cemetery 501 W. McCreight Avenue  Springfield OH 45504
GEO:39.936434;-83.821766
END:VEVENT
END:VCALENDAR