BEGIN:VCALENDAR
VERSION:2.0
PRODID:-//Tukios.com/
BEGIN:VEVENT
UID:a17d3bd0-4a51-4dfd-869a-f1b085fcf5d0@www.thechapelofpeace.com
DTSTAMP:20260424T002638Z
DTSTART:20260427T170000Z
DTEND:20260427T180000Z
SUMMARY:Funeral
DESCRIPTION:
URL:https://www.thechapelofpeace.com/obituaries/gwendolyn-wilson
LOCATION:Mt. Zion Baptist Church Springfield 1171 S. Yellow Springs 
	Street  Springfield OH 45506
GEO:39.9118763;-83.8258195
END:VEVENT
END:VCALENDAR