BEGIN:VCALENDAR
VERSION:2.0
PRODID:-//Tukios.com/
BEGIN:VEVENT
UID:e89c34bb-c44f-4efe-85de-d518df397cc1@www.thechapelofpeace.com
DTSTAMP:20260420T044421Z
DTSTART:20260424T170000Z
DTEND:20260424T173000Z
SUMMARY:Graveside Service
DESCRIPTION:
URL:https://www.thechapelofpeace.com/obituaries/inez-mccruter
LOCATION: 389 Altamont Ave  Mansfield OH 44902
GEO:40.7478542;-82.5131294
END:VEVENT
END:VCALENDAR