BEGIN:VCALENDAR
VERSION:2.0
PRODID:-//Tukios.com/
BEGIN:VEVENT
UID:4ea06c7a-f4d9-4c47-a601-b24a182ecd04@www.thechapelofpeace.com
DTSTAMP:20260420T044609Z
DTSTART:20260424T150000Z
DTEND:20260424T170000Z
SUMMARY:Funeral
DESCRIPTION:
URL:https://www.thechapelofpeace.com/obituaries/inez-mccruter
LOCATION: 190 Chester Ave  Mansfield OH 44903
GEO:40.7737764;-82.5215415
END:VEVENT
END:VCALENDAR