BEGIN:VCALENDAR
VERSION:2.0
PRODID:-//Tukios.com/
BEGIN:VEVENT
UID:365b019e-e3ca-4520-8a2a-15cb3dc98372@www.thechapelofpeace.com
DTSTAMP:20260420T044339Z
DTSTART:20260424T140000Z
DTEND:20260424T150000Z
SUMMARY:Visitation
DESCRIPTION:
URL:https://www.thechapelofpeace.com/obituaries/inez-mccruter
LOCATION: 190 Chester Ave  Mansfield OH 44903
GEO:40.7737764;-82.5215415
END:VEVENT
END:VCALENDAR