BEGIN:VCALENDAR
VERSION:2.0
PRODID:-//Tukios.com/
BEGIN:VEVENT
UID:90e0e8fd-651d-468d-9f26-23c45686fbf4@www.thechapelofpeace.com
DTSTAMP:20260423T015545Z
DTSTART:20260501T150000Z
DTEND:20260501T160000Z
SUMMARY:Funeral
DESCRIPTION:
URL:https://www.thechapelofpeace.com/obituaries/joyce-robinson
LOCATION:Chapel of Peace - East 5456 E. Livingston Ave.  Columbus OH 
	43232
GEO:39.9431947;-82.8489985
END:VEVENT
END:VCALENDAR