BEGIN:VCALENDAR
VERSION:2.0
PRODID:-//Tukios.com/
BEGIN:VEVENT
UID:b9648d1f-636a-47ae-b8c3-96cccb15ee54@www.thechapelofpeace.com
DTSTAMP:20260423T015337Z
DTSTART:20260501T140000Z
DTEND:20260501T150000Z
SUMMARY:Visitation
DESCRIPTION:
URL:https://www.thechapelofpeace.com/obituaries/joyce-robinson
LOCATION:Chapel of Peace - East 5456 E. Livingston Ave.  Columbus OH 
	43232
GEO:39.9431947;-82.8489985
END:VEVENT
END:VCALENDAR