BEGIN:VCALENDAR
VERSION:2.0
PRODID:-//Tukios.com/
BEGIN:VEVENT
UID:732044ad-4623-4ed1-915f-357a74180eb0@www.thechapelofpeace.com
DTSTAMP:20260423T020027Z
DTSTART:20260501T164500Z
DTEND:20260501T170000Z
SUMMARY:Interment
DESCRIPTION:
URL:https://www.thechapelofpeace.com/obituaries/joyce-robinson
LOCATION: 8029 E Main St  Reynoldsburg OH 43068
GEO:39.9548461;-82.7835432
END:VEVENT
END:VCALENDAR