BEGIN:VCALENDAR
VERSION:2.0
PRODID:-//Tukios.com/
BEGIN:VEVENT
UID:dcd543ec-c9f8-4507-a268-309ed1c3d428@www.thechapelofpeace.com
DTSTAMP:20260424T203536Z
DTSTART:20260514T170000Z
DTEND:20260514T173000Z
SUMMARY:Graveside Service
DESCRIPTION:
URL:https://www.thechapelofpeace.com/obituaries/kimberly-livingston
LOCATION:Glen Rest Memorial Estates 8029 W. Main St.  Reynoldsburg OH 
	43068
GEO:39.7454744;-84.404419
END:VEVENT
END:VCALENDAR