BEGIN:VCALENDAR
VERSION:2.0
PRODID:-//Tukios.com/
BEGIN:VEVENT
UID:3adf7737-5f0b-4703-b27e-7b97849ca3e9@www.thechapelofpeace.com
DTSTAMP:20260424T203059Z
DTSTART:20260514T150000Z
DTEND:20260514T170000Z
SUMMARY:Funeral
DESCRIPTION:
URL:https://www.thechapelofpeace.com/obituaries/kimberly-livingston
LOCATION:Rhema Christian Center  3426 Corban Commons Drive  Columbus OH 
	43219
GEO:40.0218592;-82.9211103
END:VEVENT
END:VCALENDAR