BEGIN:VCALENDAR
VERSION:2.0
PRODID:-//Tukios.com/
BEGIN:VEVENT
UID:6695e20e-b6aa-467e-95fb-2cf518a99a52@www.thechapelofpeace.com
DTSTAMP:20260424T203400Z
DTSTART:20260514T140000Z
DTEND:20260514T150000Z
SUMMARY:Visitation
DESCRIPTION:
URL:https://www.thechapelofpeace.com/obituaries/kimberly-livingston
LOCATION:Rhema Christian Center  3426 Corban Commons Drive  Columbus OH 
	43219
GEO:40.0218592;-82.9211103
END:VEVENT
END:VCALENDAR