BEGIN:VCALENDAR
VERSION:2.0
PRODID:-//Tukios.com/
BEGIN:VEVENT
UID:1fb0bad7-636e-43a9-a8fa-6b83885d943c@www.thechapelofpeace.com
DTSTAMP:20260420T045037Z
DTSTART:20260424T180000Z
DTEND:20260424T193000Z
SUMMARY:Funeral
DESCRIPTION:
URL:https://www.thechapelofpeace.com/obituaries/leah-watson
LOCATION:Mt. Carmel Worship Center 2182 Courtright Rd.  Columbus OH 43232
GEO:39.9280434;-82.8980679
END:VEVENT
END:VCALENDAR