BEGIN:VCALENDAR
VERSION:2.0
PRODID:-//Tukios.com/
BEGIN:VEVENT
UID:10653cad-0583-4edc-8a89-13a6aa9bf670@www.thechapelofpeace.com
DTSTAMP:20260420T044421Z
DTSTART:20260424T170000Z
DTEND:20260424T180000Z
SUMMARY:Visitation
DESCRIPTION:
URL:https://www.thechapelofpeace.com/obituaries/leah-watson
LOCATION:Mt. Carmel Worship Center 2182 Courtright Rd.  Columbus OH 43232
GEO:39.9280434;-82.8980679
END:VEVENT
END:VCALENDAR