BEGIN:VCALENDAR
VERSION:2.0
PRODID:-//Tukios.com/
BEGIN:VEVENT
UID:8efde7b4-426b-4272-9bf5-897b36c0f9b1@www.thechapelofpeace.com
DTSTAMP:20260421T170533Z
DTSTART:20260425T140000Z
DTEND:20260425T143000Z
SUMMARY:Graveside Service
DESCRIPTION:
URL:https://www.thechapelofpeace.com/obituaries/millard-stevenson
LOCATION:Green Lawn Cemetery 1000 Greenlawn Ave.  Columbus OH 
GEO:39.9394874;-83.0254559
END:VEVENT
END:VCALENDAR