BEGIN:VCALENDAR
VERSION:2.0
PRODID:-//Tukios.com/
BEGIN:VEVENT
UID:e7561cfa-17e6-42b0-8fec-a8775b401486@www.thechapelofpeace.com
DTSTAMP:20260421T170753Z
DTSTART:20260425T123000Z
DTEND:20260425T133000Z
SUMMARY:Funeral
DESCRIPTION:
URL:https://www.thechapelofpeace.com/obituaries/millard-stevenson
LOCATION:Chapel of Peace - East 5456 E. Livingston Ave.  Columbus OH 
	43232
GEO:39.9431947;-82.8489985
END:VEVENT
END:VCALENDAR