BEGIN:VCALENDAR
VERSION:2.0
PRODID:-//Tukios.com/
BEGIN:VEVENT
UID:6c808c36-436a-49df-aa35-5e374f84cee2@www.thechapelofpeace.com
DTSTAMP:20260421T170527Z
DTSTART:20260425T120000Z
DTEND:20260425T123000Z
SUMMARY:Visitation
DESCRIPTION:
URL:https://www.thechapelofpeace.com/obituaries/millard-stevenson
LOCATION:Chapel of Peace - East 5456 E. Livingston Ave.  Columbus OH 
	43232
GEO:39.9431947;-82.8489985
END:VEVENT
END:VCALENDAR