BEGIN:VCALENDAR
VERSION:2.0
PRODID:-//Tukios.com/
BEGIN:VEVENT
UID:d28bdeb3-858a-42c4-be5c-8de2457f009f@www.thechapelofpeace.com
DTSTAMP:20260424T002837Z
DTSTART:20260502T160000Z
DTEND:20260502T163000Z
SUMMARY:Graveside Service
DESCRIPTION:
URL:https://www.thechapelofpeace.com/obituaries/nashelle-mitchell
LOCATION:Mansfield Cemetery     
GEO:0;0
END:VEVENT
END:VCALENDAR