BEGIN:VCALENDAR
VERSION:2.0
PRODID:-//Tukios.com/
BEGIN:VEVENT
UID:55e95d89-71e6-4ed8-bd8f-905a933a79b4@www.thechapelofpeace.com
DTSTAMP:20260421T172326Z
DTSTART:20260424T140000Z
DTEND:20260424T160000Z
SUMMARY:Funeral
DESCRIPTION:
URL:https://www.thechapelofpeace.com/obituaries/robert-mix
LOCATION:Bible Way Church of Our Lord Jesus Christ 453 S Wheatland Ave  
	Columbus OH 43204
GEO:39.9462456;-83.0615731
END:VEVENT
END:VCALENDAR