BEGIN:VCALENDAR
VERSION:2.0
PRODID:-//Tukios.com/
BEGIN:VEVENT
UID:0173e5a5-7022-4431-8ee2-8e677653349a@www.thechapelofpeace.com
DTSTAMP:20260421T172447Z
DTSTART:20260424T130000Z
DTEND:20260424T140000Z
SUMMARY:Visitation
DESCRIPTION:
URL:https://www.thechapelofpeace.com/obituaries/robert-mix
LOCATION:Bible Way Church of Our Lord Jesus Christ 453 S Wheatland Ave  
	Columbus OH 43204
GEO:39.9462456;-83.0615731
END:VEVENT
END:VCALENDAR