BEGIN:VCALENDAR
VERSION:2.0
PRODID:-//Tukios.com/
BEGIN:VEVENT
UID:52852b3a-6776-41ef-a7a2-71225a6ba5da@www.thechapelofpeace.com
DTSTAMP:20260422T054903Z
DTSTART:20260429T150000Z
DTEND:20260429T160000Z
SUMMARY:Funeral
DESCRIPTION:
URL:https://www.thechapelofpeace.com/obituaries/walter-wilborn
LOCATION:Chapel of Peace - East 5456 E. Livingston Ave.  Columbus OH 
	43232
GEO:39.9431947;-82.8489985
END:VEVENT
END:VCALENDAR