BEGIN:VCALENDAR
VERSION:2.0
PRODID:-//Tukios.com/
BEGIN:VEVENT
UID:93ef10c0-182c-49ad-86bf-c65dbbf83a97@www.thechapelofpeace.com
DTSTAMP:20260422T055024Z
DTSTART:20260429T140000Z
DTEND:20260429T150000Z
SUMMARY:Visitation
DESCRIPTION:
URL:https://www.thechapelofpeace.com/obituaries/walter-wilborn
LOCATION:Chapel of Peace - East 5456 E. Livingston Ave.  Columbus OH 
	43232
GEO:39.9431947;-82.8489985
END:VEVENT
END:VCALENDAR